BEGIN:VCALENDAR
VERSION:2.0
CREATED:20260423T145014Z
PRODID:-//Codexis\, Inc./Equisolve Calendar v1.0//EN
METHOD:PUBLISH
BEGIN:VEVENT
UID:bed149775257452bedba3766d389b60c
DTSTAMP:20260424T123145Z
DTSTART:20260507T203000Z
DTEND:20260507T213000Z
SUMMARY:Q1 2026 Codexis\, Inc. Earnings Conference Call
DESCRIPTION:Q1 2026 Codexis\, Inc. Earnings Conference Call\nDate: May 7\, 2026 4:30 pm EDT\nWebcast: https://event.choruscall.com/mediaframe/webcast.html?webcastid=wj2qGo1K
END:VEVENT
END:VCALENDAR
